{
 "cimVersion": "3.6.0",
 "serviceDescription": "",
 "mapName": "Map10",
 "description": "",
 "copyrightText": "",
 "supportsDynamicLayers": false,
 "layers": [
  {
   "id": 0,
   "name": "Madison_dem_2017_stple.img",
   "parentLayerId": -1,
   "defaultVisibility": true,
   "subLayerIds": null,
   "minScale": 0,
   "maxScale": 0,
   "type": "Raster Layer",
   "supportsDynamicLegends": true
  }
 ],
 "tables": [],
 "spatialReference": {
  "wkid": 2967,
  "latestWkid": 2967,
  "vcsWkid": 105703,
  "latestVcsWkid": 6360,
  "xyTolerance": 0.003280833333333333,
  "zTolerance": 0.001,
  "mTolerance": 0.001,
  "falseX": -18119800,
  "falseY": -45615400,
  "xyUnits": 3048.0060960121928,
  "falseZ": -100000,
  "zUnits": 3048.006096012192,
  "falseM": -100000,
  "mUnits": 10000
 },
 "singleFusedMapCache": true,
 "tileInfo": {
  "rows": 256,
  "cols": 256,
  "dpi": 96,
  "format": "Mixed",
  "compressionQuality": 75,
  "origin": {
   "x": -3.248560212305686E7,
   "y": 2.0012320828010373E7
  },
  "spatialReference": {
   "wkid": 2967,
   "latestWkid": 2967,
   "vcsWkid": 105703,
   "latestVcsWkid": 6360,
   "xyTolerance": 0.003280833333333333,
   "zTolerance": 0.001,
   "mTolerance": 0.001,
   "falseX": -18119800,
   "falseY": -45615400,
   "xyUnits": 3048.0060960121928,
   "falseZ": -100000,
   "zUnits": 3048.006096012192,
   "falseM": -100000,
   "mUnits": 10000
  },
  "lods": [
   {
    "level": 0,
    "resolution": 256356.91762804837,
    "scale": 2.953237597550312E8
   },
   {
    "level": 1,
    "resolution": 128178.45881402418,
    "scale": 1.476618798775156E8
   },
   {
    "level": 2,
    "resolution": 64089.22940701209,
    "scale": 7.38309399387578E7
   },
   {
    "level": 3,
    "resolution": 32044.614703506046,
    "scale": 3.69154699693789E7
   },
   {
    "level": 4,
    "resolution": 16022.307351753023,
    "scale": 1.845773498468945E7
   },
   {
    "level": 5,
    "resolution": 8011.153675876511,
    "scale": 9228867.492344726
   },
   {
    "level": 6,
    "resolution": 4005.5768379382557,
    "scale": 4614433.746172363
   },
   {
    "level": 7,
    "resolution": 2002.7884189691279,
    "scale": 2307216.8730861815
   },
   {
    "level": 8,
    "resolution": 1001.3942094845639,
    "scale": 1153608.4365430907
   },
   {
    "level": 9,
    "resolution": 500.69710474228197,
    "scale": 576804.2182715454
   },
   {
    "level": 10,
    "resolution": 250.34855237114098,
    "scale": 288402.1091357727
   },
   {
    "level": 11,
    "resolution": 125.17427618557049,
    "scale": 144201.05456788634
   },
   {
    "level": 12,
    "resolution": 62.587138092785246,
    "scale": 72100.52728394317
   },
   {
    "level": 13,
    "resolution": 31.293569046392623,
    "scale": 36050.263641971585
   },
   {
    "level": 14,
    "resolution": 15.646784523196311,
    "scale": 18025.131820985793
   },
   {
    "level": 15,
    "resolution": 7.823392261598156,
    "scale": 9012.565910492896
   },
   {
    "level": 16,
    "resolution": 3.911696130799078,
    "scale": 4506.282955246448
   },
   {
    "level": 17,
    "resolution": 1.955848065399539,
    "scale": 2253.141477623224
   },
   {
    "level": 18,
    "resolution": 0.9779240326997695,
    "scale": 1126.570738811612
   },
   {
    "level": 19,
    "resolution": 0.48896201634988473,
    "scale": 563.285369405806
   },
   {
    "level": 20,
    "resolution": 0.24448100817494237,
    "scale": 281.642684702903
   },
   {
    "level": 21,
    "resolution": 0.12224050408747118,
    "scale": 140.8213423514515
   },
   {
    "level": 22,
    "resolution": 0.06112025204373559,
    "scale": 70.41067117572575
   },
   {
    "level": 23,
    "resolution": 0.030560126021867796,
    "scale": 35.205335587862876
   }
  ]
 },
 "storageInfo": {
  "storageFormat": "esriMapCacheStorageModeCompactV2",
  "packetSize": 128
 },
 "initialExtent": {
  "xmin": 250160.47297297296,
  "ymin": 1696750,
  "xmax": 374839.52702702704,
  "ymax": 1878250,
  "spatialReference": {
   "wkid": 2967,
   "latestWkid": 2967,
   "vcsWkid": 105703,
   "latestVcsWkid": 6360,
   "xyTolerance": 0.003280833333333333,
   "zTolerance": 0.001,
   "mTolerance": 0.001,
   "falseX": -18119800,
   "falseY": -45615400,
   "xyUnits": 3048.0060960121928,
   "falseZ": -100000,
   "zUnits": 3048.006096012192,
   "falseM": -100000,
   "mUnits": 10000
  }
 },
 "fullExtent": {
  "xmin": 270000,
  "ymin": 1705000,
  "xmax": 355000,
  "ymax": 1870000,
  "spatialReference": {
   "wkid": 2967,
   "latestWkid": 2967,
   "vcsWkid": 105703,
   "latestVcsWkid": 6360,
   "xyTolerance": 0.003280833333333333,
   "zTolerance": 0.001,
   "mTolerance": 0.001,
   "falseX": -18119800,
   "falseY": -45615400,
   "xyUnits": 3048.0060960121928,
   "falseZ": -100000,
   "zUnits": 3048.006096012192,
   "falseM": -100000,
   "mUnits": 10000
  }
 },
 "datesInUnknownTimezone": false,
 "units": "esriFeet",
 "supportedImageFormatTypes": "PNG32,PNG24,PNG,JPG,DIB,TIFF,EMF,PS,PDF,GIF,SVG,SVGZ,BMP",
 "documentInfo": {
  "Title": "Map10",
  "Author": "",
  "Comments": "",
  "Subject": "",
  "Category": "",
  "Version": "2.9.0",
  "AntialiasingMode": "None",
  "TextAntialiasingMode": "Force",
  "Keywords": ""
 },
 "supportsQueryDomains": true,
 "supportedQueryFormats": "JSON, geoJSON, PBF",
 "referenceScale": 0.0,
 "datumTransformations": [
  {
   "geoTransforms": [
    {
     "wkid": 1580,
     "latestWkid": 1580,
     "transformForward": false,
     "name": "NAD_1983_HARN_To_WGS_1984"
    }
   ]
  },
  {
   "geoTransforms": [
    {
     "wkid": 1580,
     "latestWkid": 1580,
     "transformForward": true,
     "name": "NAD_1983_HARN_To_WGS_1984"
    }
   ]
  }
 ],
 "supportsDatumTransformation": true,
 "heightModelInfo": {
  "heightModel": "gravity_related_height",
  "vertCRS": "NAVD88_height_(ftUS)",
  "heightUnit": "us-foot"
 },
 "supportsVCSProjection": true,
 "archivingInfo": {
  "supportsHistoricMoment": false
 },
 "supportsClipping": true,
 "supportsSpatialFilter": true,
 "supportsTimeRelation": true,
 "supportsQueryDataElements": true,
 "mapUnits": {
  "uwkid": 9003
 },
 "maxSelectionCount": 2000,
 "maxRecordCount": 1000,
 "maxImageHeight": 4096,
 "maxImageWidth": 4096,
 "currentVersion": 12.9,
 "capabilities": "TilesOnly,Tilemap",
 "minScale": 288402.1091357727,
 "maxScale": 9012.565910492896,
 "exportTilesAllowed": false,
 "maxExportTilesCount": 100000,
 "minLOD": 10,
 "maxLOD": 15,
 "supportedExtensions": "",
 "serviceItemId": "3a311f83501f4c39856d1bb876aa21e7"
}
