{
 "currentVersion": 10.91,
 "serviceDescription": "elwood/elwood1893",
 "name": "elwood/elwood1893",
 "description": "",
 "extent": {
  "xmin": 272201.4408878556,
  "ymin": 1824683.353276845,
  "xmax": 286707.8430653946,
  "ymax": 1840483.2031161136,
  "spatialReference": {
   "wkid": 103041,
   "latestWkid": 6459
  }
 },
 "initialExtent": {
  "xmin": 272201.4408878556,
  "ymin": 1824683.353276845,
  "xmax": 286707.8430653946,
  "ymax": 1840483.2031161136,
  "spatialReference": {
   "wkid": 103041,
   "latestWkid": 6459
  }
 },
 "fullExtent": {
  "xmin": 272201.4408878556,
  "ymin": 1824683.353276845,
  "xmax": 286707.8430653946,
  "ymax": 1840483.2031161136,
  "spatialReference": {
   "wkid": 103041,
   "latestWkid": 6459
  }
 },
 "hasMultidimensions": false,
 "pixelSizeX": 4.63167374761782,
 "pixelSizeY": 4.6689863591218925,
 "datasetFormat": "TIFF",
 "uncompressedSize": 31796064,
 "blockWidth": 128,
 "blockHeight": 128,
 "compressionType": "None",
 "bandNames": [
  "Band_1",
  "Band_2",
  "Band_3"
 ],
 "allowCopy": true,
 "allowAnalysis": true,
 "bandCount": 3,
 "pixelType": "U8",
 "minPixelSize": 0,
 "maxPixelSize": 0,
 "copyrightText": "",
 "serviceDataType": "esriImageServiceDataTypeRGB",
 "serviceSourceType": "esriImageServiceSourceTypeDataset",
 "minValues": [
  0,
  0,
  0
 ],
 "maxValues": [
  255,
  255,
  255
 ],
 "meanValues": [
  170.52134509479,
  154.48658135797,
  130.50483276797
 ],
 "stdvValues": [
  55.456983591767,
  59.379545797219,
  63.937761127989
 ],
 "objectIdField": "",
 "fields": [],
 "capabilities": "Image,Metadata,Mensuration",
 "defaultMosaicMethod": "Center",
 "allowedMosaicMethods": "",
 "sortField": "",
 "sortValue": null,
 "sortAscending": true,
 "mosaicOperator": "First",
 "defaultCompressionQuality": 75,
 "defaultResamplingMethod": "Bilinear",
 "maxImageHeight": 4100,
 "maxImageWidth": 15000,
 "allowRasterFunction": true,
 "rasterFunctionInfos": [
  {
   "name": "None",
   "description": "",
   "help": ""
  }
 ],
 "rasterTypeInfos": [
  {
   "name": "Raster Dataset",
   "description": "Supports all ArcGIS Raster Datasets",
   "help": ""
  }
 ],
 "mensurationCapabilities": "Basic",
 "hasHistograms": true,
 "hasColormap": false,
 "hasRasterAttributeTable": false,
 "minScale": 0,
 "maxScale": 0,
 "exportTilesAllowed": false,
 "supportsStatistics": false,
 "supportsAdvancedQueries": false,
 "editFieldsInfo": null,
 "ownershipBasedAccessControlForRasters": null,
 "allowComputeTiePoints": false,
 "useStandardizedQueries": true,
 "advancedQueryCapabilities": {
  "useStandardizedQueries": true,
  "supportsStatistics": false,
  "supportsOrderBy": false,
  "supportsDistinct": false,
  "supportsPagination": false
 },
 "spatialReference": {
  "wkid": 103041,
  "latestWkid": 6459
 }
}
