{
 "currentVersion": 10.91,
 "serviceDescription": "Hancock County, IN Ortho Imagery 2015",
 "mapName": "Layers",
 "description": "",
 "copyrightText": "MCCOG, Pictometry, Hancock County",
 "supportsDynamicLayers": true,
 "layers": [],
 "tables": [],
 "spatialReference": {
  "wkid": 2967,
  "latestWkid": 2967
 },
 "singleFusedMapCache": true,
 "tileInfo": {
  "rows": 256,
  "cols": 256,
  "dpi": 72,
  "format": "MIXED",
  "compressionQuality": 75,
  "origin": {
   "x": -18119800,
   "y": 20012700
  },
  "spatialReference": {
   "wkid": 2967,
   "latestWkid": 2967
  },
  "lods": [
   {
    "level": 0,
    "resolution": 334.36921296296293,
    "scale": 288895
   },
   {
    "level": 1,
    "resolution": 167.18518518518516,
    "scale": 144448
   },
   {
    "level": 2,
    "resolution": 83.59259259259258,
    "scale": 72224
   },
   {
    "level": 3,
    "resolution": 41.79629629629629,
    "scale": 36112
   },
   {
    "level": 4,
    "resolution": 20.898148148148145,
    "scale": 18056
   },
   {
    "level": 5,
    "resolution": 10.449074074074073,
    "scale": 9028
   },
   {
    "level": 6,
    "resolution": 5.224537037037036,
    "scale": 4514
   },
   {
    "level": 7,
    "resolution": 2.612268518518518,
    "scale": 2257
   },
   {
    "level": 8,
    "resolution": 1.3055555555555556,
    "scale": 1128
   },
   {
    "level": 9,
    "resolution": 0.6527777777777778,
    "scale": 564
   }
  ]
 },
 "initialExtent": {
  "xmin": 236837.43215384954,
  "ymin": 1659887.3129072639,
  "xmax": 359190.47351798916,
  "ymax": 1732698.632001261,
  "spatialReference": {
   "wkid": 2967,
   "latestWkid": 2967
  }
 },
 "fullExtent": {
  "xmin": "NaN",
  "ymin": "NaN",
  "xmax": "NaN",
  "ymax": "NaN",
  "spatialReference": {
   "wkid": 2967,
   "latestWkid": 2967
  }
 },
 "minScale": 288895,
 "maxScale": 1128,
 "units": "esriFeet",
 "supportedImageFormatTypes": "PNG32,PNG24,PNG,JPG,DIB,TIFF,EMF,PS,PDF,GIF,SVG,SVGZ,BMP",
 "documentInfo": {
  "Title": "",
  "Author": "",
  "Comments": "",
  "Subject": "",
  "Category": "",
  "AntialiasingMode": "None",
  "TextAntialiasingMode": "Force",
  "Keywords": "MCCOG,Hancock County,Imagery,Orthos"
 },
 "capabilities": "Map,Query,Data",
 "supportedQueryFormats": "JSON, geoJSON",
 "exportTilesAllowed": false,
 "referenceScale": 0,
 "supportsDatumTransformation": true,
 "maxRecordCount": 1000,
 "maxImageHeight": 4096,
 "maxImageWidth": 4096,
 "supportedExtensions": "",
 "serviceItemId": "6b9ea990adcf480bb7f0490e7c0eea93"
}
