View In:
ArcGIS JavaScript
ArcGIS Online Map Viewer
ArcGIS Earth
ArcMap
ArcGIS Pro
View Footprint In:
ArcGIS Online Map Viewer
Service Description:
Map Name: South Madison County 2021 Orthos
Legend
All Layers and Tables
Dynamic Legend
Dynamic All Layers
Layers:
Description:
Service Item Id: e708e980f95a4a6a93d31cc1100d3475
Copyright Text:
Spatial Reference:
2244
(2965)
Single Fused Map Cache: true
Tile Info:
- Height: 256
- Width: 256
- DPI: 96
-
Levels of Detail: 19
-
Level ID: 0
[ Start Tile, End Tile ]
- Resolution: 256356.91762804837
- Scale: 2.953237597550312E8
-
Level ID: 1
[ Start Tile, End Tile ]
- Resolution: 128178.45881402418
- Scale: 1.476618798775156E8
-
Level ID: 2
[ Start Tile, End Tile ]
- Resolution: 64089.22940701209
- Scale: 7.38309399387578E7
-
Level ID: 3
[ Start Tile, End Tile ]
- Resolution: 32044.614703506046
- Scale: 3.69154699693789E7
-
Level ID: 4
[ Start Tile, End Tile ]
- Resolution: 16022.307351753023
- Scale: 1.845773498468945E7
-
Level ID: 5
[ Start Tile, End Tile ]
- Resolution: 8011.153675876511
- Scale: 9228867.492344726
-
Level ID: 6
[ Start Tile, End Tile ]
- Resolution: 4005.5768379382557
- Scale: 4614433.746172363
-
Level ID: 7
[ Start Tile, End Tile ]
- Resolution: 2002.7884189691279
- Scale: 2307216.8730861815
-
Level ID: 8
[ Start Tile, End Tile ]
- Resolution: 1001.3942094845639
- Scale: 1153608.4365430907
-
Level ID: 9
[ Start Tile, End Tile ]
- Resolution: 500.69710474228197
- Scale: 576804.2182715454
-
Level ID: 10
[ Start Tile, End Tile ]
- Resolution: 250.34855237114098
- Scale: 288402.1091357727
-
Level ID: 11
[ Start Tile, End Tile ]
- Resolution: 125.17427618557049
- Scale: 144201.05456788634
-
Level ID: 12
[ Start Tile, End Tile ]
- Resolution: 62.587138092785246
- Scale: 72100.52728394317
-
Level ID: 13
[ Start Tile, End Tile ]
- Resolution: 31.293569046392623
- Scale: 36050.263641971585
-
Level ID: 14
[ Start Tile, End Tile ]
- Resolution: 15.646784523196311
- Scale: 18025.131820985793
-
Level ID: 15
[ Start Tile, End Tile ]
- Resolution: 7.823392261598156
- Scale: 9012.565910492896
-
Level ID: 16
[ Start Tile, End Tile ]
- Resolution: 3.911696130799078
- Scale: 4506.282955246448
-
Level ID: 17
[ Start Tile, End Tile ]
- Resolution: 1.955848065399539
- Scale: 2253.141477623224
-
Level ID: 18
[ Start Tile, End Tile ]
- Resolution: 0.9779240326997695
- Scale: 1126.570738811612
- Format: Mixed
- Compression Quality: 75.0
- Origin: X: -3.248560212305686E7
Y: 2.0012320828010373E7
- Spatial Reference: 2244
(2965)
Storage Info:
- Storage Format: esriMapCacheStorageModeCompactV2
- Packet Size: 128
Initial Extent:
XMin: 255313.8815662562
YMin: 1687166.458454297
XMax: 375524.20970531384
YMax: 1769240.355414297
Spatial Reference: 2244
(2965)
Full Extent:
XMin: 255313.8815662562
YMin: 1687166.458454297
XMax: 375524.20970531384
YMax: 1769240.355414297
Spatial Reference: 2244
(2965)
Units: esriFeet
Supported Image Format Types: PNG32,PNG24,PNG,JPG,DIB,TIFF,EMF,PS,PDF,GIF,SVG,SVGZ,BMP
Document Info:
Title: Map
Author:
Comments:
Subject:
Category:
Keywords: mccog,imagery,2021,madison county,south madison,fcrw
AntialiasingMode: Fast
TextAntialiasingMode: Force
Supports Dynamic Layers: true
MaxRecordCount: 2000
MaxImageHeight: 4096
MaxImageWidth: 4096
Supported Query Formats: JSON, geoJSON, PBF
Supports Query Data Elements: true
Min Scale: 36050.263641971585
Max Scale: 1126.570738811612
Min LOD: 13
Max LOD: 18
Supports Datum Transformation: true
Child Resources:
Info
Dynamic Layer
Supported Operations:
Export Map
Identify
QueryLegends
QueryDomains
Find
Return Updates