View In:
ArcGIS JavaScript
ArcGIS Online Map Viewer
ArcGIS Earth
ArcMap
View Footprint In:
ArcGIS Online Map Viewer
Service Description: elwood/elwood1893
Name: elwood/elwood1893
Description:
Single Fused Map Cache: false
Extent:
XMin: 272201.4408878556
YMin: 1824683.353276845
XMax: 286707.8430653946
YMax: 1840483.2031161136
Spatial Reference: 103041
(6459)
LatestVCSWkid(0)
Initial Extent:
XMin: 272201.4408878556
YMin: 1824683.353276845
XMax: 286707.8430653946
YMax: 1840483.2031161136
Spatial Reference: 103041
(6459)
LatestVCSWkid(0)
Full Extent:
XMin: 272201.4408878556
YMin: 1824683.353276845
XMax: 286707.8430653946
YMax: 1840483.2031161136
Spatial Reference: 103041
(6459)
LatestVCSWkid(0)
Pixel Size X: 4.63167374761782
Pixel Size Y: 4.6689863591218925
Band Count: 3
Pixel Type: U8
RasterFunction Infos: {"rasterFunctionInfos": [{
"name": "None",
"description": "",
"help": ""
}]}
Mensuration Capabilities: Basic
Has Histograms: true
Has Colormap: false
Has Multi Dimensions : false
Rendering Rule:
Min Scale: 0
Max Scale: 0
Copyright Text:
Service Data Type: esriImageServiceDataTypeRGB
Min Values: 0, 0, 0
Max Values: 255, 255, 255
Mean Values: 170.52134509479, 154.48658135797, 130.50483276797
Standard Deviation Values: 55.456983591767, 59.379545797219, 63.937761127989
Object ID Field:
Fields:
None
Default Mosaic Method: Center
Allowed Mosaic Methods:
SortField:
SortValue: null
Mosaic Operator: First
Default Compression Quality: 75
Default Resampling Method: Bilinear
Max Record Count: null
Max Image Height: 4100
Max Image Width: 15000
Max Download Image Count: null
Max Mosaic Image Count: null
Allow Raster Function: true
Allow Copy: true
Allow Analysis: true
Allow Compute TiePoints: false
Supports Statistics: false
Supports Advanced Queries: false
Use StandardizedQueries: true
Raster Type Infos:
Name: Raster Dataset
Description: Supports all ArcGIS Raster Datasets
Help:
Has Raster Attribute Table: false
Edit Fields Info: null
Ownership Based AccessControl For Rasters: null
Child Resources:
Info
Histograms
Statistics
Key Properties
Legend
Raster Function Infos
Supported Operations:
Export Image
Identify
Measure
Compute Histograms
Compute Statistics Histograms
Get Samples
Compute Class Statistics
Query Boundary
Compute Pixel Location
Compute Angles
Validate
Project